BEGIN:VCALENDAR
VERSION:2.0
PRODID:-//hacksw/handcal//NONSGML v1.0//EN
BEGIN:VEVENT
DTSTAMP:20260531T220000Z
DTSTART:20260531T220000Z
DTEND:20260531T230000Z

SUMMARY:ACADEMY OF DANCE: Dancin’
DESCRIPTION:Featuring the talented students of The Academy of Dance! This show features all of the wonderful classes at the Academy of Dance in San Luis Obispo, showing off what they have been working on all year long. Purchase Infusion & Dancin’ bundle for 15% off →
END:VEVENT
END:VCALENDAR