BEGIN:VCALENDAR
VERSION:2.0
PRODID:-//hacksw/handcal//NONSGML v1.0//EN
BEGIN:VEVENT
DTSTAMP:20260530T220000Z
DTSTART:20260530T220000Z
DTEND:20260530T230000Z

SUMMARY:ACADEMY OF DANCE: Infusion
DESCRIPTION:Infusion is the culmination of The Academy of Dance performing groups season. Infusion is a hard hitting jazz show featuring all of the performing groups and featuring The San Luis Jazz Dancers. Choreography by Brittany Carmichael and the members of The San Luis Jazz Dancers. We are so excited to provide this incredible show for one night only!Purchase Infusion & Dancin’ bundle for 15% off →
END:VEVENT
END:VCALENDAR